BEGIN:VCALENDAR
VERSION:2.0
PRODID:Spatie calendar-links
BEGIN:VEVENT
UID:086dffff95e00fbe58b6c734059ca82a
SUMMARY:UNA 12 Webinar #10 - Roles and Content Moderation in Groups
DTSTAMP:20210507T000000Z
DTSTART:20210507T000000Z
DTEND:20210507T010000Z
END:VEVENT
END:VCALENDAR