BEGIN:VCALENDAR
VERSION:2.0
PRODID:Spatie calendar-links
BEGIN:VEVENT
UID:5e2d50b8898e5b948d9436913188c4c0
SUMMARY:UNA 12 Webinar #12 - Credits
DTSTAMP:20210528T010000Z
DTSTART:20210528T010000Z
DTEND:20210528T020000Z
END:VEVENT
END:VCALENDAR