BEGIN:VCALENDAR
VERSION:2.0
PRODID:Spatie calendar-links
BEGIN:VEVENT
UID:f02174b8cb4460cc71acbfbb8c33293f
SUMMARY:UNA Webinar - Timeline
DTSTAMP:20210617T233000Z
DTSTART:20210617T233000Z
DTEND:20210618T003000Z
END:VEVENT
END:VCALENDAR