BEGIN:VCALENDAR
VERSION:2.0
PRODID:Spatie calendar-links
BEGIN:VEVENT
UID:7e6e0e5da51afbeb62bdd2cb51658ae9
SUMMARY:UNA 12.1 Webinar - new features
DTSTAMP:20210701T233000Z
DTSTART:20210701T233000Z
DTEND:20210702T003000Z
END:VEVENT
END:VCALENDAR