BEGIN:VCALENDAR
VERSION:2.0
PRODID:Spatie calendar-links
BEGIN:VEVENT
UID:5eea566bbf7e051b3a504779f4e1114a
SUMMARY:UNA Webinar - Licensing
DTSTAMP:20210806T003000Z
DTSTART:20210806T003000Z
DTEND:20210806T010000Z
END:VEVENT
END:VCALENDAR