BEGIN:VCALENDAR
VERSION:2.0
PRODID:Spatie calendar-links
BEGIN:VEVENT
UID:fc714003150ce3a9a2d9b6206f890bb9
SUMMARY:UNA Transformation - Plans\, News and Reflections
DTSTAMP:20210903T000000Z
DTSTART:20210903T000000Z
DTEND:20210903T003000Z
END:VEVENT
END:VCALENDAR