BEGIN:VCALENDAR
VERSION:2.0
PRODID:Spatie calendar-links
BEGIN:VEVENT
UID:4e0149e43c3b50727c940b3bd77507d2
SUMMARY:UNA 12 Webinar #2 - new system features
DTSTAMP:20210311T230000Z
DTSTART:20210311T230000Z
DTEND:20210312T000000Z
END:VEVENT
END:VCALENDAR