BEGIN:VCALENDAR
VERSION:2.0
PRODID:Spatie calendar-links
BEGIN:VEVENT
UID:e3bae502c68eb080e23880649419c11c
SUMMARY:UNA 12 Webinar #3 - new system features
DTSTAMP:20210318T230000Z
DTSTART:20210318T230000Z
DTEND:20210319T000000Z
END:VEVENT
END:VCALENDAR