BEGIN:VCALENDAR
VERSION:2.0
PRODID:Spatie calendar-links
BEGIN:VEVENT
UID:dadf8189a9c4013a1e1d6dcc285359e7
SUMMARY:UNA 12 Webinar #4 - new system features
DTSTAMP:20210325T230000Z
DTSTART:20210325T230000Z
DTEND:20210326T000000Z
END:VEVENT
END:VCALENDAR