BEGIN:VCALENDAR
VERSION:2.0
PRODID:Spatie calendar-links
BEGIN:VEVENT
UID:5c64155099e4dcaa0295c701bb4cde26
SUMMARY:UNA 12 Webinar #5 - S3 storage settings
DTSTAMP:20210401T230000Z
DTSTART:20210401T230000Z
DTEND:20210402T000000Z
END:VEVENT
END:VCALENDAR