BEGIN:VCALENDAR
VERSION:2.0
PRODID:Spatie calendar-links
BEGIN:VEVENT
UID:a88e6a9a61ddd8ca2ab26a117c9a91cd
SUMMARY:UNA 12 Webinar #7 - Tasks app
DTSTAMP:20210420T000000Z
DTSTART:20210420T000000Z
DTEND:20210420T010000Z
END:VEVENT
END:VCALENDAR