BEGIN:VCALENDAR
VERSION:2.0
PRODID:Spatie calendar-links
BEGIN:VEVENT
UID:5af4d7dd9c4e68cffdc1164ef2d791e1
SUMMARY:UNA 12 Webinar #8 - Lessons & Courses apps
DTSTAMP:20210422T220000Z
DTSTART:20210422T220000Z
DTEND:20210422T230000Z
END:VEVENT
END:VCALENDAR