BEGIN:VCALENDAR
VERSION:2.0
PRODID:Spatie calendar-links
BEGIN:VEVENT
UID:000e82904fc4feb4c0b1da6c26a76714
SUMMARY:UNA 12 Webinar #9 - Paid Groups and Cash Payments
DTSTAMP:20210430T000000Z
DTSTART:20210430T000000Z
DTEND:20210430T010000Z
END:VEVENT
END:VCALENDAR